BEGIN:VCALENDAR
VERSION:2.0
PRODID:-//Stone Lodge School - ECPv6.15.20//NONSGML v1.0//EN
CALSCALE:GREGORIAN
METHOD:PUBLISH
X-WR-CALNAME:Stone Lodge School
X-ORIGINAL-URL:https://stonelodgeschool.co.uk
X-WR-CALDESC:Events for Stone Lodge School
REFRESH-INTERVAL;VALUE=DURATION:PT1H
X-Robots-Tag:noindex
X-PUBLISHED-TTL:PT1H
BEGIN:VTIMEZONE
TZID:Europe/Paris
BEGIN:STANDARD
TZOFFSETFROM:+0100
TZOFFSETTO:+0100
TZNAME:CET
DTSTART:19690101T000000
END:STANDARD
END:VTIMEZONE
BEGIN:VEVENT
DTSTART;TZID=Europe/Paris:20260424T172446
DTEND;TZID=Europe/Paris:20260424T172446
DTSTAMP:20260424T172446
CREATED:20260226T134129Z
LAST-MODIFIED:20260304T101424Z
UID:4500-0-0@stonelodgeschool.co.uk
SUMMARY:Last Day of Term 5
DESCRIPTION:
URL:https://stonelodgeschool.co.uk/event/last-day-of-term-5-2/
CATEGORIES:Term Dates
END:VEVENT
END:VCALENDAR