BEGIN:VCALENDAR
VERSION:2.0
PRODID:-//Stone Lodge School - ECPv6.15.20//NONSGML v1.0//EN
CALSCALE:GREGORIAN
METHOD:PUBLISH
X-WR-CALNAME:Stone Lodge School
X-ORIGINAL-URL:https://stonelodgeschool.co.uk
X-WR-CALDESC:Events for Stone Lodge School
REFRESH-INTERVAL;VALUE=DURATION:PT1H
X-Robots-Tag:noindex
X-PUBLISHED-TTL:PT1H
BEGIN:VTIMEZONE
TZID:Europe/Paris
BEGIN:DAYLIGHT
TZOFFSETFROM:+0100
TZOFFSETTO:+0200
TZNAME:CEST
DTSTART:20230326T010000
END:DAYLIGHT
BEGIN:STANDARD
TZOFFSETFROM:+0200
TZOFFSETTO:+0100
TZNAME:CET
DTSTART:20231029T010000
END:STANDARD
BEGIN:DAYLIGHT
TZOFFSETFROM:+0100
TZOFFSETTO:+0200
TZNAME:CEST
DTSTART:20240331T010000
END:DAYLIGHT
BEGIN:STANDARD
TZOFFSETFROM:+0200
TZOFFSETTO:+0100
TZNAME:CET
DTSTART:20241027T010000
END:STANDARD
BEGIN:DAYLIGHT
TZOFFSETFROM:+0100
TZOFFSETTO:+0200
TZNAME:CEST
DTSTART:20250330T010000
END:DAYLIGHT
BEGIN:STANDARD
TZOFFSETFROM:+0200
TZOFFSETTO:+0100
TZNAME:CET
DTSTART:20251026T010000
END:STANDARD
BEGIN:DAYLIGHT
TZOFFSETFROM:+0100
TZOFFSETTO:+0200
TZNAME:CEST
DTSTART:20260329T010000
END:DAYLIGHT
BEGIN:STANDARD
TZOFFSETFROM:+0200
TZOFFSETTO:+0100
TZNAME:CET
DTSTART:20261025T010000
END:STANDARD
END:VTIMEZONE
BEGIN:VEVENT
DTSTART;VALUE=DATE:20250626
DTEND;VALUE=DATE:20250627
DTSTAMP:20260424T102109
CREATED:20240903T092312Z
LAST-MODIFIED:20240903T092312Z
UID:2254-1750896000-1750982399@stonelodgeschool.co.uk
SUMMARY:Year 6 Information Evening
DESCRIPTION:
URL:https://stonelodgeschool.co.uk/event/year-6-information-evening/
CATEGORIES:School Events
END:VEVENT
BEGIN:VEVENT
DTSTART;VALUE=DATE:20250623
DTEND;VALUE=DATE:20250628
DTSTAMP:20260424T102109
CREATED:20240903T092311Z
LAST-MODIFIED:20240903T092311Z
UID:2252-1750636800-1751068799@stonelodgeschool.co.uk
SUMMARY:Year 10 Examination Week
DESCRIPTION:
URL:https://stonelodgeschool.co.uk/event/year-10-examination-week/
CATEGORIES:Examinations
END:VEVENT
BEGIN:VEVENT
DTSTART;VALUE=DATE:20250623
DTEND;VALUE=DATE:20250628
DTSTAMP:20260424T102109
CREATED:20240903T092311Z
LAST-MODIFIED:20240903T092311Z
UID:2253-1750636800-1751068799@stonelodgeschool.co.uk
SUMMARY:Year 12 A Level Assessment Week
DESCRIPTION:
URL:https://stonelodgeschool.co.uk/event/year-12-a-level-assessment-week/
CATEGORIES:Examinations
END:VEVENT
BEGIN:VEVENT
DTSTART;VALUE=DATE:20250620
DTEND;VALUE=DATE:20250621
DTSTAMP:20260424T102109
CREATED:20240903T092310Z
LAST-MODIFIED:20240903T092310Z
UID:2251-1750377600-1750463999@stonelodgeschool.co.uk
SUMMARY:Sports Day
DESCRIPTION:
URL:https://stonelodgeschool.co.uk/event/sports-day/
CATEGORIES:Sports Fixtures
END:VEVENT
BEGIN:VEVENT
DTSTART;VALUE=DATE:20250602
DTEND;VALUE=DATE:20250603
DTSTAMP:20260424T102109
CREATED:20240903T092001Z
LAST-MODIFIED:20240903T092001Z
UID:2207-1748822400-1748908799@stonelodgeschool.co.uk
SUMMARY:First Day of Term 6
DESCRIPTION:
URL:https://stonelodgeschool.co.uk/event/first-day-of-term-6/
CATEGORIES:Term Dates
END:VEVENT
BEGIN:VEVENT
DTSTART;VALUE=DATE:20250523
DTEND;VALUE=DATE:20250524
DTSTAMP:20260424T102109
CREATED:20240903T092000Z
LAST-MODIFIED:20240903T092000Z
UID:2206-1747958400-1748044799@stonelodgeschool.co.uk
SUMMARY:Last Day of Term 5
DESCRIPTION:
URL:https://stonelodgeschool.co.uk/event/last-day-of-term-5/
CATEGORIES:Term Dates
END:VEVENT
BEGIN:VEVENT
DTSTART;VALUE=DATE:20250512
DTEND;VALUE=DATE:20250517
DTSTAMP:20260424T102109
CREATED:20240903T092310Z
LAST-MODIFIED:20240903T092310Z
UID:2249-1747008000-1747439999@stonelodgeschool.co.uk
SUMMARY:Year 10 Work Experience
DESCRIPTION:
URL:https://stonelodgeschool.co.uk/event/year-10-work-experience/
CATEGORIES:Parents' Evening
END:VEVENT
BEGIN:VEVENT
DTSTART;VALUE=DATE:20250506
DTEND;VALUE=DATE:20250618
DTSTAMP:20260424T102109
CREATED:20240903T092310Z
LAST-MODIFIED:20240903T092310Z
UID:2250-1746489600-1750204799@stonelodgeschool.co.uk
SUMMARY:GCSE Examinations
DESCRIPTION:
URL:https://stonelodgeschool.co.uk/event/gcse-examinations/
CATEGORIES:Examinations
END:VEVENT
BEGIN:VEVENT
DTSTART;VALUE=DATE:20250428
DTEND;VALUE=DATE:20250503
DTSTAMP:20260424T102109
CREATED:20240903T092310Z
LAST-MODIFIED:20241004T114640Z
UID:2248-1745798400-1746230399@stonelodgeschool.co.uk
SUMMARY:Year 11 Art GCSE Examination week
DESCRIPTION:
URL:https://stonelodgeschool.co.uk/event/year-11-art-gcse-examination-week/
CATEGORIES:Examinations
END:VEVENT
BEGIN:VEVENT
DTSTART;VALUE=DATE:20250424
DTEND;VALUE=DATE:20250425
DTSTAMP:20260424T102109
CREATED:20240903T092309Z
LAST-MODIFIED:20241004T114604Z
UID:2247-1745452800-1745539199@stonelodgeschool.co.uk
SUMMARY:Year 10 Parents' Evening
DESCRIPTION:
URL:https://stonelodgeschool.co.uk/event/year-10-parents-evening/
CATEGORIES:Parents' Evening
END:VEVENT
BEGIN:VEVENT
DTSTART;VALUE=DATE:20250422
DTEND;VALUE=DATE:20250423
DTSTAMP:20260424T102109
CREATED:20241004T112133Z
LAST-MODIFIED:20241004T112133Z
UID:2681-1745280000-1745366399@stonelodgeschool.co.uk
SUMMARY:First Day of Term 5
DESCRIPTION:
URL:https://stonelodgeschool.co.uk/event/first-day-of-term-5-2/
CATEGORIES:Term Dates
END:VEVENT
BEGIN:VEVENT
DTSTART;VALUE=DATE:20250404
DTEND;VALUE=DATE:20250405
DTSTAMP:20260424T102109
CREATED:20241004T112042Z
LAST-MODIFIED:20241004T112042Z
UID:2679-1743724800-1743811199@stonelodgeschool.co.uk
SUMMARY:Last Day of Term 4
DESCRIPTION:
URL:https://stonelodgeschool.co.uk/event/last-day-of-term-4-2/
CATEGORIES:Term Dates
END:VEVENT
BEGIN:VEVENT
DTSTART;VALUE=DATE:20250401
DTEND;VALUE=DATE:20250403
DTSTAMP:20260424T102109
CREATED:20240903T092247Z
LAST-MODIFIED:20240903T092247Z
UID:2246-1743465600-1743638399@stonelodgeschool.co.uk
SUMMARY:Year 9 Careers Workshop
DESCRIPTION:
URL:https://stonelodgeschool.co.uk/event/year-9-careers-workshop-2/
CATEGORIES:School Events
END:VEVENT
BEGIN:VEVENT
DTSTART;VALUE=DATE:20250327
DTEND;VALUE=DATE:20250328
DTSTAMP:20260424T102109
CREATED:20241004T111855Z
LAST-MODIFIED:20241004T111855Z
UID:2675-1743033600-1743119999@stonelodgeschool.co.uk
SUMMARY:Year 8 Parents’ Evening
DESCRIPTION:
URL:https://stonelodgeschool.co.uk/event/year-8-parents-evening-2/
CATEGORIES:Parents' Evening
END:VEVENT
BEGIN:VEVENT
DTSTART;VALUE=DATE:20250313
DTEND;VALUE=DATE:20250314
DTSTAMP:20260424T102109
CREATED:20241004T111830Z
LAST-MODIFIED:20241004T111830Z
UID:2673-1741824000-1741910399@stonelodgeschool.co.uk
SUMMARY:Year 7 Parents’ Evening
DESCRIPTION:
URL:https://stonelodgeschool.co.uk/event/year-7-parents-evening-2/
CATEGORIES:Parents' Evening
END:VEVENT
BEGIN:VEVENT
DTSTART;VALUE=DATE:20250225
DTEND;VALUE=DATE:20250306
DTSTAMP:20260424T102109
CREATED:20241004T111437Z
LAST-MODIFIED:20250212T121547Z
UID:2663-1740441600-1741219199@stonelodgeschool.co.uk
SUMMARY:Year 10 Assessments
DESCRIPTION:
URL:https://stonelodgeschool.co.uk/event/year-10-mock-examinations-2/
CATEGORIES:Examinations
END:VEVENT
BEGIN:VEVENT
DTSTART;VALUE=DATE:20250225
DTEND;VALUE=DATE:20250226
DTSTAMP:20260424T102109
CREATED:20241004T111733Z
LAST-MODIFIED:20241004T111733Z
UID:2671-1740441600-1740527999@stonelodgeschool.co.uk
SUMMARY:First Day of Term 4
DESCRIPTION:
URL:https://stonelodgeschool.co.uk/event/first-day-of-term-4-2/
CATEGORIES:Term Dates
END:VEVENT
BEGIN:VEVENT
DTSTART;VALUE=DATE:20250224
DTEND;VALUE=DATE:20250225
DTSTAMP:20260424T102109
CREATED:20241004T111710Z
LAST-MODIFIED:20241004T111710Z
UID:2669-1740355200-1740441599@stonelodgeschool.co.uk
SUMMARY:Inset Day
DESCRIPTION:
URL:https://stonelodgeschool.co.uk/event/inset-day-5/
CATEGORIES:Inset
END:VEVENT
BEGIN:VEVENT
DTSTART;VALUE=DATE:20250214
DTEND;VALUE=DATE:20250215
DTSTAMP:20260424T102109
CREATED:20241004T111637Z
LAST-MODIFIED:20241004T111637Z
UID:2667-1739491200-1739577599@stonelodgeschool.co.uk
SUMMARY:Last Day of Term 3
DESCRIPTION:
URL:https://stonelodgeschool.co.uk/event/last-day-of-term-3-2/
CATEGORIES:Term Dates
END:VEVENT
BEGIN:VEVENT
DTSTART;VALUE=DATE:20250203
DTEND;VALUE=DATE:20250208
DTSTAMP:20260424T102109
CREATED:20241004T111544Z
LAST-MODIFIED:20241004T111544Z
UID:2665-1738540800-1738972799@stonelodgeschool.co.uk
SUMMARY:Year 11 Careers one-to-one Interviews
DESCRIPTION:
URL:https://stonelodgeschool.co.uk/event/year-11-careers-one-to-one-interviews-2/
CATEGORIES:School Events
END:VEVENT
BEGIN:VEVENT
DTSTART;VALUE=DATE:20250130
DTEND;VALUE=DATE:20250131
DTSTAMP:20260424T102109
CREATED:20241004T111225Z
LAST-MODIFIED:20241004T111225Z
UID:2659-1738195200-1738281599@stonelodgeschool.co.uk
SUMMARY:Years 12 & 13 Parents’ Evening
DESCRIPTION:
URL:https://stonelodgeschool.co.uk/event/years-12-13-parents-evening-2/
CATEGORIES:Parents' Evening
END:VEVENT
BEGIN:VEVENT
DTSTART;VALUE=DATE:20250124
DTEND;VALUE=DATE:20250125
DTSTAMP:20260424T102109
CREATED:20241004T111125Z
LAST-MODIFIED:20241004T111125Z
UID:2657-1737676800-1737763199@stonelodgeschool.co.uk
SUMMARY:Year 11 Mock Examination Results Assembly
DESCRIPTION:
URL:https://stonelodgeschool.co.uk/event/year-11-mock-examination-results-assembly-2/
CATEGORIES:School Events
END:VEVENT
BEGIN:VEVENT
DTSTART;VALUE=DATE:20250121
DTEND;VALUE=DATE:20250122
DTSTAMP:20260424T102109
CREATED:20241004T110958Z
LAST-MODIFIED:20241004T110958Z
UID:2655-1737417600-1737503999@stonelodgeschool.co.uk
SUMMARY:Years 7-9 Careers Further Education Talk
DESCRIPTION:
URL:https://stonelodgeschool.co.uk/event/years-7-9-careers-further-education-talk-2/
CATEGORIES:School Events
END:VEVENT
BEGIN:VEVENT
DTSTART;VALUE=DATE:20250106
DTEND;VALUE=DATE:20250107
DTSTAMP:20260424T102109
CREATED:20241004T110031Z
LAST-MODIFIED:20241004T110031Z
UID:2653-1736121600-1736207999@stonelodgeschool.co.uk
SUMMARY:First Day of Term 3
DESCRIPTION:
URL:https://stonelodgeschool.co.uk/event/first-day-of-term-3-2/
CATEGORIES:Term Dates
END:VEVENT
BEGIN:VEVENT
DTSTART;VALUE=DATE:20241220
DTEND;VALUE=DATE:20241221
DTSTAMP:20260424T102109
CREATED:20241004T110001Z
LAST-MODIFIED:20241004T110001Z
UID:2651-1734652800-1734739199@stonelodgeschool.co.uk
SUMMARY:Last Day of Term 2
DESCRIPTION:
URL:https://stonelodgeschool.co.uk/event/last-day-of-term-2-2/
CATEGORIES:Term Dates
END:VEVENT
BEGIN:VEVENT
DTSTART;VALUE=DATE:20241219
DTEND;VALUE=DATE:20241220
DTSTAMP:20260424T102109
CREATED:20241004T105937Z
LAST-MODIFIED:20241004T105937Z
UID:2649-1734566400-1734652799@stonelodgeschool.co.uk
SUMMARY:Year 7 Community Music Event (7E-H)
DESCRIPTION:
URL:https://stonelodgeschool.co.uk/event/year-7-community-music-event-7e-h-2/
CATEGORIES:School Events
END:VEVENT
BEGIN:VEVENT
DTSTART;VALUE=DATE:20241218
DTEND;VALUE=DATE:20241219
DTSTAMP:20260424T102109
CREATED:20241004T105913Z
LAST-MODIFIED:20241004T105913Z
UID:2647-1734480000-1734566399@stonelodgeschool.co.uk
SUMMARY:Year 7 Community Music Event (7A-D)
DESCRIPTION:
URL:https://stonelodgeschool.co.uk/event/year-7-community-music-event-7a-d-2/
CATEGORIES:School Events
END:VEVENT
BEGIN:VEVENT
DTSTART;VALUE=DATE:20241211
DTEND;VALUE=DATE:20241212
DTSTAMP:20260424T102109
CREATED:20241004T105833Z
LAST-MODIFIED:20241202T135804Z
UID:2645-1733875200-1733961599@stonelodgeschool.co.uk
SUMMARY:CANCELLATION - SL6 (Sixth Form) Open Evening
DESCRIPTION:Please note our Sixth Form Open Evening on 12th December 2024 has been cancelled \nIf you have applied to attend we will contact you directly using the details you provided
URL:https://stonelodgeschool.co.uk/event/sl6-sixth-form-open-evening-2/
CATEGORIES:SL6
END:VEVENT
BEGIN:VEVENT
DTSTART;VALUE=DATE:20241209
DTEND;VALUE=DATE:20241214
DTSTAMP:20260424T102109
CREATED:20241004T105636Z
LAST-MODIFIED:20241004T105636Z
UID:2643-1733702400-1734134399@stonelodgeschool.co.uk
SUMMARY:Year 11 Mock Examination
DESCRIPTION:
URL:https://stonelodgeschool.co.uk/event/year-11-mock-examination-2/
CATEGORIES:Examinations
END:VEVENT
BEGIN:VEVENT
DTSTART;VALUE=DATE:20241203
DTEND;VALUE=DATE:20241204
DTSTAMP:20260424T102109
CREATED:20241004T105553Z
LAST-MODIFIED:20241004T105553Z
UID:2641-1733184000-1733270399@stonelodgeschool.co.uk
SUMMARY:Year 9 Careers Workshop
DESCRIPTION:
URL:https://stonelodgeschool.co.uk/event/year-9-careers-workshop-3/
CATEGORIES:School Events
END:VEVENT
END:VCALENDAR