BEGIN:VCALENDAR
VERSION:2.0
PRODID:-//Stone Lodge School - ECPv6.15.20//NONSGML v1.0//EN
CALSCALE:GREGORIAN
METHOD:PUBLISH
X-WR-CALNAME:Stone Lodge School
X-ORIGINAL-URL:https://stonelodgeschool.co.uk
X-WR-CALDESC:Events for Stone Lodge School
REFRESH-INTERVAL;VALUE=DURATION:PT1H
X-Robots-Tag:noindex
X-PUBLISHED-TTL:PT1H
BEGIN:VTIMEZONE
TZID:Europe/Paris
BEGIN:DAYLIGHT
TZOFFSETFROM:+0100
TZOFFSETTO:+0200
TZNAME:CEST
DTSTART:20250330T010000
END:DAYLIGHT
BEGIN:STANDARD
TZOFFSETFROM:+0200
TZOFFSETTO:+0100
TZNAME:CET
DTSTART:20251026T010000
END:STANDARD
BEGIN:DAYLIGHT
TZOFFSETFROM:+0100
TZOFFSETTO:+0200
TZNAME:CEST
DTSTART:20260329T010000
END:DAYLIGHT
BEGIN:STANDARD
TZOFFSETFROM:+0200
TZOFFSETTO:+0100
TZNAME:CET
DTSTART:20261025T010000
END:STANDARD
BEGIN:DAYLIGHT
TZOFFSETFROM:+0100
TZOFFSETTO:+0200
TZNAME:CEST
DTSTART:20270328T010000
END:DAYLIGHT
BEGIN:STANDARD
TZOFFSETFROM:+0200
TZOFFSETTO:+0100
TZNAME:CET
DTSTART:20271031T010000
END:STANDARD
END:VTIMEZONE
BEGIN:VEVENT
DTSTART;VALUE=DATE:20260303
DTEND;VALUE=DATE:20260304
DTSTAMP:20260424T104105
CREATED:20260226T134135Z
LAST-MODIFIED:20260304T102350Z
UID:4504-1772496000-1772582399@stonelodgeschool.co.uk
SUMMARY:HPV Vaccinations Years 8-11
DESCRIPTION:
URL:https://stonelodgeschool.co.uk/event/hpv-vaccinations-years-8-11/
CATEGORIES:School Events
END:VEVENT
BEGIN:VEVENT
DTSTART;VALUE=DATE:20260309
DTEND;VALUE=DATE:20260314
DTSTAMP:20260424T104105
CREATED:20260226T134136Z
LAST-MODIFIED:20260304T102522Z
UID:4506-1773014400-1773446399@stonelodgeschool.co.uk
SUMMARY:Year 10 Mock Examinations
DESCRIPTION:
URL:https://stonelodgeschool.co.uk/event/year-10-mock-examinations-3/
CATEGORIES:Examinations
END:VEVENT
BEGIN:VEVENT
DTSTART;TZID=Europe/Paris:20260311T183000
DTEND;TZID=Europe/Paris:20260311T200000
DTSTAMP:20260424T104105
CREATED:20260304T101428Z
LAST-MODIFIED:20260304T102651Z
UID:4564-1773253800-1773259200@stonelodgeschool.co.uk
SUMMARY:PTA Meeting - all welcome
DESCRIPTION:
URL:https://stonelodgeschool.co.uk/event/pta-meeting-all-welcome-2/
END:VEVENT
BEGIN:VEVENT
DTSTART;TZID=Europe/Paris:20260319T160000
DTEND;TZID=Europe/Paris:20260319T200000
DTSTAMP:20260424T104105
CREATED:20260226T134150Z
LAST-MODIFIED:20260304T102751Z
UID:4508-1773936000-1773950400@stonelodgeschool.co.uk
SUMMARY:Year 9 Parents' Evening
DESCRIPTION:
URL:https://stonelodgeschool.co.uk/event/year-9-parents-evening-3/
CATEGORIES:Parents' Evenings
END:VEVENT
BEGIN:VEVENT
DTSTART;VALUE=DATE:20260323
DTEND;VALUE=DATE:20260324
DTSTAMP:20260424T104105
CREATED:20260226T134135Z
LAST-MODIFIED:20260304T102431Z
UID:4505-1774224000-1774310399@stonelodgeschool.co.uk
SUMMARY:Year 9 Options - deadline to make choices
DESCRIPTION:
URL:https://stonelodgeschool.co.uk/event/year-9-options-deadline-to-make-choices/
CATEGORIES:School Events
END:VEVENT
BEGIN:VEVENT
DTSTART;VALUE=DATE:20260324
DTEND;VALUE=DATE:20260325
DTSTAMP:20260424T104105
CREATED:20260226T134151Z
LAST-MODIFIED:20260304T102840Z
UID:4509-1774310400-1774396799@stonelodgeschool.co.uk
SUMMARY:School Photography Years 8\, 9 & 10
DESCRIPTION:
URL:https://stonelodgeschool.co.uk/event/school-photography-years-8-8-10/
CATEGORIES:School Events
END:VEVENT
BEGIN:VEVENT
DTSTART;VALUE=DATE:20260326
DTEND;VALUE=DATE:20260327
DTSTAMP:20260424T104105
CREATED:20260226T134134Z
LAST-MODIFIED:20260304T102151Z
UID:4503-1774483200-1774569599@stonelodgeschool.co.uk
SUMMARY:PTA Event - QUIZ NIGHT
DESCRIPTION:
URL:https://stonelodgeschool.co.uk/event/pta-event-quiz-night/
CATEGORIES:PTA
END:VEVENT
BEGIN:VEVENT
DTSTART;TZID=Europe/Paris:20260326T160000
DTEND;TZID=Europe/Paris:20260326T200000
DTSTAMP:20260424T104105
CREATED:20260226T134151Z
LAST-MODIFIED:20260304T103055Z
UID:4510-1774540800-1774555200@stonelodgeschool.co.uk
SUMMARY:Year 8 Parents' Evening
DESCRIPTION:
URL:https://stonelodgeschool.co.uk/event/year-8-parents-evening-3/
CATEGORIES:Parents' Evenings
END:VEVENT
BEGIN:VEVENT
DTSTART;TZID=Europe/Paris:20260330T190000
DTEND;TZID=Europe/Paris:20260330T210000
DTSTAMP:20260424T104105
CREATED:20260226T134151Z
LAST-MODIFIED:20260304T103144Z
UID:4511-1774897200-1774904400@stonelodgeschool.co.uk
SUMMARY:Student Legacy Awards Evening
DESCRIPTION:
URL:https://stonelodgeschool.co.uk/event/student-legacy-awards-evening/
CATEGORIES:School Events
END:VEVENT
BEGIN:VEVENT
DTSTART;VALUE=DATE:20260402
DTEND;VALUE=DATE:20260403
DTSTAMP:20260424T104105
CREATED:20260226T134128Z
LAST-MODIFIED:20260304T101948Z
UID:4498-1775088000-1775174399@stonelodgeschool.co.uk
SUMMARY:Last Day of Term 4
DESCRIPTION:
URL:https://stonelodgeschool.co.uk/event/last-day-of-term-4-3/
CATEGORIES:Term Dates
END:VEVENT
BEGIN:VEVENT
DTSTART;VALUE=DATE:20260420
DTEND;VALUE=DATE:20260421
DTSTAMP:20260424T104105
CREATED:20260226T134129Z
LAST-MODIFIED:20260304T102022Z
UID:4499-1776643200-1776729599@stonelodgeschool.co.uk
SUMMARY:First Day of Term 5
DESCRIPTION:
URL:https://stonelodgeschool.co.uk/event/first-day-of-term-5-3/
CATEGORIES:Term Dates
END:VEVENT
BEGIN:VEVENT
DTSTART;VALUE=DATE:20260423
DTEND;VALUE=DATE:20260424
DTSTAMP:20260424T104105
CREATED:20260226T134205Z
LAST-MODIFIED:20260304T103326Z
UID:4513-1776902400-1776988799@stonelodgeschool.co.uk
SUMMARY:Year 10 Duke of Edinburgh Training Day
DESCRIPTION:
URL:https://stonelodgeschool.co.uk/event/year-10-duke-of-edinburgh-training-day/
CATEGORIES:DofE
END:VEVENT
BEGIN:VEVENT
DTSTART;TZID=Europe/Paris:20260423T160000
DTEND;TZID=Europe/Paris:20260423T200000
DTSTAMP:20260424T104105
CREATED:20260226T134152Z
LAST-MODIFIED:20260304T103254Z
UID:4512-1776960000-1776974400@stonelodgeschool.co.uk
SUMMARY:Year 10 Parents' Evening
DESCRIPTION:
URL:https://stonelodgeschool.co.uk/event/year-10-parents-evening-2/
CATEGORIES:Parents' Evenings
END:VEVENT
BEGIN:VEVENT
DTSTART;VALUE=DATE:20260505
DTEND;VALUE=DATE:20260506
DTSTAMP:20260424T104105
CREATED:20260226T134207Z
LAST-MODIFIED:20260304T103657Z
UID:4517-1777939200-1778025599@stonelodgeschool.co.uk
SUMMARY:Year 11 GCSE Examinations start
DESCRIPTION:
URL:https://stonelodgeschool.co.uk/event/year-11-gcse-examinations-start/
CATEGORIES:Examinations
END:VEVENT
BEGIN:VEVENT
DTSTART;VALUE=DATE:20260508
DTEND;VALUE=DATE:20260510
DTSTAMP:20260424T104105
CREATED:20260226T134206Z
LAST-MODIFIED:20260304T103407Z
UID:4514-1778198400-1778371199@stonelodgeschool.co.uk
SUMMARY:Year 10 Duke of Edinburgh Practise Expedition
DESCRIPTION:
URL:https://stonelodgeschool.co.uk/event/year-10-duke-of-edinburgh-practise-expedition/
CATEGORIES:DofE
END:VEVENT
BEGIN:VEVENT
DTSTART;VALUE=DATE:20260511
DTEND;VALUE=DATE:20260512
DTSTAMP:20260424T104105
CREATED:20260226T134206Z
LAST-MODIFIED:20260304T103539Z
UID:4515-1778457600-1778543999@stonelodgeschool.co.uk
SUMMARY:SL6 - A Level Examinations start
DESCRIPTION:
URL:https://stonelodgeschool.co.uk/event/sl6-a-level-examinations-start/
CATEGORIES:Examinations
END:VEVENT
BEGIN:VEVENT
DTSTART;VALUE=DATE:20260511
DTEND;VALUE=DATE:20260516
DTSTAMP:20260424T104105
CREATED:20260226T134207Z
LAST-MODIFIED:20260304T103613Z
UID:4516-1778457600-1778889599@stonelodgeschool.co.uk
SUMMARY:Year 10 Work Experience Week
DESCRIPTION:
URL:https://stonelodgeschool.co.uk/event/year-10-work-experience-week/
CATEGORIES:School Events
END:VEVENT
BEGIN:VEVENT
DTSTART;VALUE=DATE:20260601
DTEND;VALUE=DATE:20260602
DTSTAMP:20260424T104105
CREATED:20260226T134130Z
LAST-MODIFIED:20260304T102117Z
UID:4501-1780272000-1780358399@stonelodgeschool.co.uk
SUMMARY:First Day of Term 6
DESCRIPTION:
URL:https://stonelodgeschool.co.uk/event/first-day-of-term-6-2/
CATEGORIES:Term Dates
END:VEVENT
BEGIN:VEVENT
DTSTART;VALUE=DATE:20260608
DTEND;VALUE=DATE:20260609
DTSTAMP:20260424T104105
CREATED:20260226T134220Z
LAST-MODIFIED:20260304T103743Z
UID:4518-1780876800-1780963199@stonelodgeschool.co.uk
SUMMARY:Year 8 Exams week
DESCRIPTION:
URL:https://stonelodgeschool.co.uk/event/year-8-exams-week/
CATEGORIES:Examinations
END:VEVENT
BEGIN:VEVENT
DTSTART;VALUE=DATE:20260612
DTEND;VALUE=DATE:20260614
DTSTAMP:20260424T104105
CREATED:20260226T134221Z
LAST-MODIFIED:20260304T103823Z
UID:4519-1781222400-1781395199@stonelodgeschool.co.uk
SUMMARY:Year 10 Duke of Edinburgh Expedition
DESCRIPTION:
URL:https://stonelodgeschool.co.uk/event/year-10-duke-of-edinburgh-expedition/
CATEGORIES:DofE
END:VEVENT
BEGIN:VEVENT
DTSTART;VALUE=DATE:20260615
DTEND;VALUE=DATE:20260620
DTSTAMP:20260424T104105
CREATED:20260226T134221Z
LAST-MODIFIED:20260304T103914Z
UID:4520-1781481600-1781913599@stonelodgeschool.co.uk
SUMMARY:Year 9 Exams week
DESCRIPTION:
URL:https://stonelodgeschool.co.uk/event/year-9-exams-week/
CATEGORIES:Examinations
END:VEVENT
BEGIN:VEVENT
DTSTART;VALUE=DATE:20260623
DTEND;VALUE=DATE:20260624
DTSTAMP:20260424T104105
CREATED:20260226T134222Z
LAST-MODIFIED:20260304T103945Z
UID:4521-1782172800-1782259199@stonelodgeschool.co.uk
SUMMARY:SL6 Induction Day
DESCRIPTION:
URL:https://stonelodgeschool.co.uk/event/sl6-induction-day-2/
CATEGORIES:School Events
END:VEVENT
BEGIN:VEVENT
DTSTART;VALUE=DATE:20260626
DTEND;VALUE=DATE:20260627
DTSTAMP:20260424T104105
CREATED:20260226T134222Z
LAST-MODIFIED:20260304T104013Z
UID:4522-1782432000-1782518399@stonelodgeschool.co.uk
SUMMARY:Year 6 Parents/carers meeting (starting in Y7)
DESCRIPTION:
URL:https://stonelodgeschool.co.uk/event/year-6-parents-carers-meeting-starting-in-y7/
CATEGORIES:School Events
END:VEVENT
BEGIN:VEVENT
DTSTART;VALUE=DATE:20260626
DTEND;VALUE=DATE:20260627
DTSTAMP:20260424T104105
CREATED:20260226T134235Z
LAST-MODIFIED:20260304T104055Z
UID:4523-1782432000-1782518399@stonelodgeschool.co.uk
SUMMARY:Sports Day
DESCRIPTION:
URL:https://stonelodgeschool.co.uk/event/sports-day-2/
CATEGORIES:School Events
END:VEVENT
BEGIN:VEVENT
DTSTART;VALUE=DATE:20260703
DTEND;VALUE=DATE:20260704
DTSTAMP:20260424T104105
CREATED:20260226T134236Z
LAST-MODIFIED:20260304T104132Z
UID:4524-1783036800-1783123199@stonelodgeschool.co.uk
SUMMARY:Year 6 Student transition day
DESCRIPTION:
URL:https://stonelodgeschool.co.uk/event/year-6-student-transition-day/
CATEGORIES:School Events
END:VEVENT
BEGIN:VEVENT
DTSTART;VALUE=DATE:20260713
DTEND;VALUE=DATE:20260718
DTSTAMP:20260424T104105
CREATED:20260226T134236Z
LAST-MODIFIED:20260304T104209Z
UID:4525-1783900800-1784332799@stonelodgeschool.co.uk
SUMMARY:Learning Beyond the Classroom week
DESCRIPTION:
URL:https://stonelodgeschool.co.uk/event/learning-beyond-the-classroom-week-2/
CATEGORIES:School Events
END:VEVENT
BEGIN:VEVENT
DTSTART;VALUE=DATE:20260721
DTEND;VALUE=DATE:20260722
DTSTAMP:20260424T104105
CREATED:20260226T134130Z
LAST-MODIFIED:20260304T101906Z
UID:4502-1784592000-1784678399@stonelodgeschool.co.uk
SUMMARY:Last Day of Term 6
DESCRIPTION:
URL:https://stonelodgeschool.co.uk/event/last-day-of-term-6-2/
CATEGORIES:Term Dates
END:VEVENT
END:VCALENDAR