BEGIN:VCALENDAR
VERSION:2.0
PRODID:-//Stone Lodge School - ECPv6.15.20//NONSGML v1.0//EN
CALSCALE:GREGORIAN
METHOD:PUBLISH
X-ORIGINAL-URL:https://stonelodgeschool.co.uk
X-WR-CALDESC:Events for Stone Lodge School
REFRESH-INTERVAL;VALUE=DURATION:PT1H
X-Robots-Tag:noindex
X-PUBLISHED-TTL:PT1H
BEGIN:VTIMEZONE
TZID:Europe/Paris
BEGIN:DAYLIGHT
TZOFFSETFROM:+0100
TZOFFSETTO:+0200
TZNAME:CEST
DTSTART:20230326T010000
END:DAYLIGHT
BEGIN:STANDARD
TZOFFSETFROM:+0200
TZOFFSETTO:+0100
TZNAME:CET
DTSTART:20231029T010000
END:STANDARD
BEGIN:DAYLIGHT
TZOFFSETFROM:+0100
TZOFFSETTO:+0200
TZNAME:CEST
DTSTART:20240331T010000
END:DAYLIGHT
BEGIN:STANDARD
TZOFFSETFROM:+0200
TZOFFSETTO:+0100
TZNAME:CET
DTSTART:20241027T010000
END:STANDARD
BEGIN:DAYLIGHT
TZOFFSETFROM:+0100
TZOFFSETTO:+0200
TZNAME:CEST
DTSTART:20250330T010000
END:DAYLIGHT
BEGIN:STANDARD
TZOFFSETFROM:+0200
TZOFFSETTO:+0100
TZNAME:CET
DTSTART:20251026T010000
END:STANDARD
BEGIN:DAYLIGHT
TZOFFSETFROM:+0100
TZOFFSETTO:+0200
TZNAME:CEST
DTSTART:20260329T010000
END:DAYLIGHT
BEGIN:STANDARD
TZOFFSETFROM:+0200
TZOFFSETTO:+0100
TZNAME:CET
DTSTART:20261025T010000
END:STANDARD
END:VTIMEZONE
BEGIN:VEVENT
DTSTART;VALUE=DATE:20250703
DTEND;VALUE=DATE:20250704
DTSTAMP:20260424T112047
CREATED:20240903T092321Z
LAST-MODIFIED:20240903T092321Z
UID:2257-1751500800-1751587199@stonelodgeschool.co.uk
SUMMARY:Year 10 Geography Field Trip
DESCRIPTION:
URL:https://stonelodgeschool.co.uk/event/year-10-geography-field-trip-3/
CATEGORIES:Trips
END:VEVENT
BEGIN:VEVENT
DTSTART;VALUE=DATE:20250701
DTEND;VALUE=DATE:20250702
DTSTAMP:20260424T112047
CREATED:20240903T092312Z
LAST-MODIFIED:20240903T092312Z
UID:2255-1751328000-1751414399@stonelodgeschool.co.uk
SUMMARY:Year 10 Geography Field Trip
DESCRIPTION:
URL:https://stonelodgeschool.co.uk/event/year-10-geography-field-trip-2/
CATEGORIES:Trips
END:VEVENT
BEGIN:VEVENT
DTSTART;VALUE=DATE:20240927
DTEND;VALUE=DATE:20240928
DTSTAMP:20260424T112047
CREATED:20240903T092115Z
LAST-MODIFIED:20240903T092115Z
UID:2221-1727395200-1727481599@stonelodgeschool.co.uk
SUMMARY:Year 11 Geography Field Trip
DESCRIPTION:
URL:https://stonelodgeschool.co.uk/event/year-11-geography-field-trip-2/
CATEGORIES:Trips
END:VEVENT
BEGIN:VEVENT
DTSTART;VALUE=DATE:20240924
DTEND;VALUE=DATE:20240925
DTSTAMP:20260424T112047
CREATED:20240903T092115Z
LAST-MODIFIED:20240903T092115Z
UID:2220-1727136000-1727222399@stonelodgeschool.co.uk
SUMMARY:Year 11 Geography Field Trip
DESCRIPTION:
URL:https://stonelodgeschool.co.uk/event/year-11-geography-field-trip/
CATEGORIES:Trips
END:VEVENT
BEGIN:VEVENT
DTSTART;VALUE=DATE:20240617
DTEND;VALUE=DATE:20240619
DTSTAMP:20260424T112047
CREATED:20240610T104255Z
LAST-MODIFIED:20240610T104255Z
UID:733-1718586000-1718672399@stonelodgeschool.co.uk
SUMMARY:Year 9 Bletchley Park Trip
DESCRIPTION:
URL:https://stonelodgeschool.co.uk/event/year-9-bletchley-park-trip/
CATEGORIES:Trips
END:VEVENT
BEGIN:VEVENT
DTSTART;VALUE=DATE:20240617
DTEND;VALUE=DATE:20240619
DTSTAMP:20260424T112047
CREATED:20240610T104227Z
LAST-MODIFIED:20240610T104227Z
UID:731-1718586000-1718672399@stonelodgeschool.co.uk
SUMMARY:Year 10 Geography Field Trip
DESCRIPTION:
URL:https://stonelodgeschool.co.uk/event/year-10-geography-field-trip/
CATEGORIES:Trips
END:VEVENT
END:VCALENDAR