BEGIN:VCALENDAR
VERSION:2.0
PRODID:-//Stone Lodge School - ECPv6.15.20//NONSGML v1.0//EN
CALSCALE:GREGORIAN
METHOD:PUBLISH
X-ORIGINAL-URL:https://stonelodgeschool.co.uk
X-WR-CALDESC:Events for Stone Lodge School
REFRESH-INTERVAL;VALUE=DURATION:PT1H
X-Robots-Tag:noindex
X-PUBLISHED-TTL:PT1H
BEGIN:VTIMEZONE
TZID:Europe/Paris
BEGIN:DAYLIGHT
TZOFFSETFROM:+0100
TZOFFSETTO:+0200
TZNAME:CEST
DTSTART:20230326T010000
END:DAYLIGHT
BEGIN:STANDARD
TZOFFSETFROM:+0200
TZOFFSETTO:+0100
TZNAME:CET
DTSTART:20231029T010000
END:STANDARD
BEGIN:DAYLIGHT
TZOFFSETFROM:+0100
TZOFFSETTO:+0200
TZNAME:CEST
DTSTART:20240331T010000
END:DAYLIGHT
BEGIN:STANDARD
TZOFFSETFROM:+0200
TZOFFSETTO:+0100
TZNAME:CET
DTSTART:20241027T010000
END:STANDARD
BEGIN:DAYLIGHT
TZOFFSETFROM:+0100
TZOFFSETTO:+0200
TZNAME:CEST
DTSTART:20250330T010000
END:DAYLIGHT
BEGIN:STANDARD
TZOFFSETFROM:+0200
TZOFFSETTO:+0100
TZNAME:CET
DTSTART:20251026T010000
END:STANDARD
END:VTIMEZONE
BEGIN:VEVENT
DTSTART;VALUE=DATE:20240926
DTEND;VALUE=DATE:20240927
DTSTAMP:20260424T111502
CREATED:20240903T092152Z
LAST-MODIFIED:20240903T092152Z
UID:2222-1727308800-1727395199@stonelodgeschool.co.uk
SUMMARY:Year 9 Welcome Evening
DESCRIPTION:
URL:https://stonelodgeschool.co.uk/event/year-9-welcome-evening/
CATEGORIES:School Events
END:VEVENT
BEGIN:VEVENT
DTSTART;VALUE=DATE:20240912
DTEND;VALUE=DATE:20240913
DTSTAMP:20260424T111502
CREATED:20240903T092017Z
LAST-MODIFIED:20240903T092114Z
UID:2216-1726099200-1726185599@stonelodgeschool.co.uk
SUMMARY:Year 10 Welcome & Work Experience Evening
DESCRIPTION:
URL:https://stonelodgeschool.co.uk/event/year-10-welcome-work-experience-evening/
CATEGORIES:School Events
END:VEVENT
BEGIN:VEVENT
DTSTART;VALUE=DATE:20240911
DTEND;VALUE=DATE:20240912
DTSTAMP:20260424T111502
CREATED:20240903T092017Z
LAST-MODIFIED:20240903T092017Z
UID:2215-1726012800-1726099199@stonelodgeschool.co.uk
SUMMARY:Year 8 Welcome Meeting
DESCRIPTION:
URL:https://stonelodgeschool.co.uk/event/year-8-welcome-meeting-2/
CATEGORIES:School Events
END:VEVENT
BEGIN:VEVENT
DTSTART;VALUE=DATE:20240911
DTEND;VALUE=DATE:20240912
DTSTAMP:20260424T111502
CREATED:20240903T092017Z
LAST-MODIFIED:20240903T095435Z
UID:2214-1726012800-1726099199@stonelodgeschool.co.uk
SUMMARY:Year 8 Welcome Meeting
DESCRIPTION:
URL:https://stonelodgeschool.co.uk/event/year-8-welcome-meeting/
CATEGORIES:School Events
END:VEVENT
BEGIN:VEVENT
DTSTART;VALUE=DATE:20240905
DTEND;VALUE=DATE:20240906
DTSTAMP:20260424T111502
CREATED:20240903T092017Z
LAST-MODIFIED:20240903T092017Z
UID:2213-1725494400-1725580799@stonelodgeschool.co.uk
SUMMARY:Year 7 Meet the Form Tutor Welcome Event
DESCRIPTION:
URL:https://stonelodgeschool.co.uk/event/year-7-meet-the-form-tutor-welcome-event-2/
CATEGORIES:School Events
END:VEVENT
BEGIN:VEVENT
DTSTART;VALUE=DATE:20240905
DTEND;VALUE=DATE:20240906
DTSTAMP:20260424T111502
CREATED:20240903T092016Z
LAST-MODIFIED:20240903T094747Z
UID:2212-1725494400-1725580799@stonelodgeschool.co.uk
SUMMARY:Year 7 Meet the Form Tutor Welcome Event
DESCRIPTION:
URL:https://stonelodgeschool.co.uk/event/year-7-meet-the-form-tutor-welcome-event/
CATEGORIES:School Events
END:VEVENT
END:VCALENDAR