BEGIN:VCALENDAR
VERSION:2.0
PRODID:-//Stone Lodge School - ECPv6.15.20//NONSGML v1.0//EN
CALSCALE:GREGORIAN
METHOD:PUBLISH
X-WR-CALNAME:Stone Lodge School
X-ORIGINAL-URL:https://stonelodgeschool.co.uk
X-WR-CALDESC:Events for Stone Lodge School
REFRESH-INTERVAL;VALUE=DURATION:PT1H
X-Robots-Tag:noindex
X-PUBLISHED-TTL:PT1H
BEGIN:VTIMEZONE
TZID:Europe/Paris
BEGIN:DAYLIGHT
TZOFFSETFROM:+0100
TZOFFSETTO:+0200
TZNAME:CEST
DTSTART:20230326T010000
END:DAYLIGHT
BEGIN:STANDARD
TZOFFSETFROM:+0200
TZOFFSETTO:+0100
TZNAME:CET
DTSTART:20231029T010000
END:STANDARD
BEGIN:DAYLIGHT
TZOFFSETFROM:+0100
TZOFFSETTO:+0200
TZNAME:CEST
DTSTART:20240331T010000
END:DAYLIGHT
BEGIN:STANDARD
TZOFFSETFROM:+0200
TZOFFSETTO:+0100
TZNAME:CET
DTSTART:20241027T010000
END:STANDARD
BEGIN:DAYLIGHT
TZOFFSETFROM:+0100
TZOFFSETTO:+0200
TZNAME:CEST
DTSTART:20250330T010000
END:DAYLIGHT
BEGIN:STANDARD
TZOFFSETFROM:+0200
TZOFFSETTO:+0100
TZNAME:CET
DTSTART:20251026T010000
END:STANDARD
BEGIN:DAYLIGHT
TZOFFSETFROM:+0100
TZOFFSETTO:+0200
TZNAME:CEST
DTSTART:20260329T010000
END:DAYLIGHT
BEGIN:STANDARD
TZOFFSETFROM:+0200
TZOFFSETTO:+0100
TZNAME:CET
DTSTART:20261025T010000
END:STANDARD
BEGIN:DAYLIGHT
TZOFFSETFROM:+0100
TZOFFSETTO:+0200
TZNAME:CEST
DTSTART:20270328T010000
END:DAYLIGHT
BEGIN:STANDARD
TZOFFSETFROM:+0200
TZOFFSETTO:+0100
TZNAME:CET
DTSTART:20271031T010000
END:STANDARD
END:VTIMEZONE
BEGIN:VEVENT
DTSTART;VALUE=DATE:20260309
DTEND;VALUE=DATE:20260314
DTSTAMP:20260424T083214
CREATED:20260226T134136Z
LAST-MODIFIED:20260304T102522Z
UID:4506-1773014400-1773446399@stonelodgeschool.co.uk
SUMMARY:Year 10 Mock Examinations
DESCRIPTION:
URL:https://stonelodgeschool.co.uk/event/year-10-mock-examinations-3/
CATEGORIES:Examinations
END:VEVENT
BEGIN:VEVENT
DTSTART;VALUE=DATE:20250623
DTEND;VALUE=DATE:20250628
DTSTAMP:20260424T083214
CREATED:20240903T092311Z
LAST-MODIFIED:20240903T092311Z
UID:2252-1750636800-1751068799@stonelodgeschool.co.uk
SUMMARY:Year 10 Examination Week
DESCRIPTION:
URL:https://stonelodgeschool.co.uk/event/year-10-examination-week/
CATEGORIES:Examinations
END:VEVENT
BEGIN:VEVENT
DTSTART;VALUE=DATE:20250623
DTEND;VALUE=DATE:20250628
DTSTAMP:20260424T083214
CREATED:20240903T092311Z
LAST-MODIFIED:20240903T092311Z
UID:2253-1750636800-1751068799@stonelodgeschool.co.uk
SUMMARY:Year 12 A Level Assessment Week
DESCRIPTION:
URL:https://stonelodgeschool.co.uk/event/year-12-a-level-assessment-week/
CATEGORIES:Examinations
END:VEVENT
BEGIN:VEVENT
DTSTART;VALUE=DATE:20250506
DTEND;VALUE=DATE:20250618
DTSTAMP:20260424T083214
CREATED:20240903T092310Z
LAST-MODIFIED:20240903T092310Z
UID:2250-1746489600-1750204799@stonelodgeschool.co.uk
SUMMARY:GCSE Examinations
DESCRIPTION:
URL:https://stonelodgeschool.co.uk/event/gcse-examinations/
CATEGORIES:Examinations
END:VEVENT
BEGIN:VEVENT
DTSTART;VALUE=DATE:20250428
DTEND;VALUE=DATE:20250503
DTSTAMP:20260424T083214
CREATED:20240903T092310Z
LAST-MODIFIED:20241004T114640Z
UID:2248-1745798400-1746230399@stonelodgeschool.co.uk
SUMMARY:Year 11 Art GCSE Examination week
DESCRIPTION:
URL:https://stonelodgeschool.co.uk/event/year-11-art-gcse-examination-week/
CATEGORIES:Examinations
END:VEVENT
BEGIN:VEVENT
DTSTART;VALUE=DATE:20250225
DTEND;VALUE=DATE:20250306
DTSTAMP:20260424T083214
CREATED:20241004T111437Z
LAST-MODIFIED:20250212T121547Z
UID:2663-1740441600-1741219199@stonelodgeschool.co.uk
SUMMARY:Year 10 Assessments
DESCRIPTION:
URL:https://stonelodgeschool.co.uk/event/year-10-mock-examinations-2/
CATEGORIES:Examinations
END:VEVENT
BEGIN:VEVENT
DTSTART;VALUE=DATE:20241209
DTEND;VALUE=DATE:20241214
DTSTAMP:20260424T083214
CREATED:20241004T105636Z
LAST-MODIFIED:20241004T105636Z
UID:2643-1733702400-1734134399@stonelodgeschool.co.uk
SUMMARY:Year 11 Mock Examination
DESCRIPTION:
URL:https://stonelodgeschool.co.uk/event/year-11-mock-examination-2/
CATEGORIES:Examinations
END:VEVENT
BEGIN:VEVENT
DTSTART;VALUE=DATE:20240624
DTEND;VALUE=DATE:20240630
DTSTAMP:20260424T083214
CREATED:20240610T104626Z
LAST-MODIFIED:20240612T143723Z
UID:743-1719190800-1719622799@stonelodgeschool.co.uk
SUMMARY:Year 9 Formal Internal Exams
DESCRIPTION:
URL:https://stonelodgeschool.co.uk/event/year-9-formal-internal-exams/
CATEGORIES:Examinations
END:VEVENT
BEGIN:VEVENT
DTSTART;VALUE=DATE:20240619
DTEND;VALUE=DATE:20240621
DTSTAMP:20260424T083214
CREATED:20240610T104330Z
LAST-MODIFIED:20240610T104330Z
UID:735-1718758800-1718845199@stonelodgeschool.co.uk
SUMMARY:Year 11 GCSE Examinations End
DESCRIPTION:
URL:https://stonelodgeschool.co.uk/event/year-11-gcse-examinations-end/
CATEGORIES:Examinations
END:VEVENT
END:VCALENDAR